BEGIN:VCALENDAR
VERSION:2.0
PRODID:-//イルチブレインヨガ神戸新長田スタジオ - ECPv6.15.20//NONSGML v1.0//EN
CALSCALE:GREGORIAN
METHOD:PUBLISH
X-ORIGINAL-URL:https://ilchibrainyoga-kobe.com
X-WR-CALDESC:イルチブレインヨガ神戸新長田スタジオ のイベント
REFRESH-INTERVAL;VALUE=DURATION:PT1H
X-Robots-Tag:noindex
X-PUBLISHED-TTL:PT1H
BEGIN:VTIMEZONE
TZID:Asia/Tokyo
BEGIN:STANDARD
TZOFFSETFROM:+0900
TZOFFSETTO:+0900
TZNAME:JST
DTSTART:20240101T000000
END:STANDARD
END:VTIMEZONE
BEGIN:VEVENT
DTSTART;TZID=Asia/Tokyo:20260328T100000
DTEND;TZID=Asia/Tokyo:20260328T112000
DTSTAMP:20260426T001331
CREATED:20260310T060725Z
LAST-MODIFIED:20260310T060725Z
UID:73342-1774692000-1774696800@ilchibrainyoga-kobe.com
SUMMARY:アリラン「ARIRANG」気功・瞑想体験会
DESCRIPTION:気功でお腹（腸）を柔らかくして温めます。下半身も鍛えることができます。\n瞑想を通して頭もすっきり！ \n開催日：\n・3月28日（土）10時〜11時20分\n会場名：イルチブレインヨガ神戸新長田スタジオ\n会場住所：神戸市長田区大橋町4-3-1 アスタプラザイースト3階\n問合せ電話:078-965-7227 \n\nLINEからのお申し込みはこちら⇒https://lin.ee/q3i63Eq \n\n\n  \n\n\n\n\n\n \n体験ご希望日時\n		(必須)　※ご注意：月曜日は定休日です\n		\n \n—以下から選択してください—10111213141516171819時 —以下から選択してください—001020304050分 ～ のクラス\n \nお名前\n		 (必須)\n		\n \n\n \nメールアドレス\n		 (必須)\n		\n \n\n \nお電話番号（携帯可）\n		 (必須)\n		\n \n\n \nこちらのスタジオを何でお知りになりましたか？\n		 (必須)\n		\n \nチラシ看板書籍雑誌紹介Yahoo検索Google検索口コミその他Webサイト\n \nご関心があること、習得したいこと（複数可）\n \n肩こり腰痛の改善自然治癒力アップ集中力アップダイエット体質改善ストレス解消丹田強化呼吸法瞑想法その他\n \n備考欄\n \n\n \n\n\n \n\n Δ \n\n\n\n株式会社DAHN WORLD JAPAN　ダンワールドジャパン
URL:https://ilchibrainyoga-kobe.com/event/kobe-19/
LOCATION:イルチブレインヨガ神戸新長田スタジオ\, 兵庫県 神戸市長田区 大橋町 5-3-1アスタプラザイースト３F
ATTACH;FMTTYPE=image/jpeg:https://ilchibrainyoga-kobe.com/wp-content/uploads/2026/03/気功-2人-新モデル.jpg
END:VEVENT
BEGIN:VEVENT
DTSTART;TZID=Asia/Tokyo:20260320T140000
DTEND;TZID=Asia/Tokyo:20260320T152000
DTSTAMP:20260426T001331
CREATED:20260310T060627Z
LAST-MODIFIED:20260310T060627Z
UID:73339-1774015200-1774020000@ilchibrainyoga-kobe.com
SUMMARY:アリラン「ARIRANG」気功・瞑想体験会
DESCRIPTION:気功でお腹（腸）を柔らかくして温めます。下半身も鍛えることができます。\n瞑想を通して頭もすっきり！ \n開催日：\n・3月20日（金）14時〜15時20分\n・3月28日（土）10時〜11時20分\n会場名：イルチブレインヨガ神戸新長田スタジオ\n会場住所：神戸市長田区大橋町4-3-1 アスタプラザイースト3階\n問合せ電話:078-965-7227 \n\nLINEからのお申し込みはこちら⇒https://lin.ee/q3i63Eq \n\n\n  \n\n\n\n\n\n \n体験ご希望日時\n		(必須)　※ご注意：月曜日は定休日です\n		\n \n—以下から選択してください—10111213141516171819時 —以下から選択してください—001020304050分 ～ のクラス\n \nお名前\n		 (必須)\n		\n \n\n \nメールアドレス\n		 (必須)\n		\n \n\n \nお電話番号（携帯可）\n		 (必須)\n		\n \n\n \nこちらのスタジオを何でお知りになりましたか？\n		 (必須)\n		\n \nチラシ看板書籍雑誌紹介Yahoo検索Google検索口コミその他Webサイト\n \nご関心があること、習得したいこと（複数可）\n \n肩こり腰痛の改善自然治癒力アップ集中力アップダイエット体質改善ストレス解消丹田強化呼吸法瞑想法その他\n \n備考欄\n \n\n \n\n\n \n\n Δ \n\n\n\n株式会社DAHN WORLD JAPAN　ダンワールドジャパン
URL:https://ilchibrainyoga-kobe.com/event/kobe-18/
LOCATION:イルチブレインヨガ神戸新長田スタジオ\, 兵庫県 神戸市長田区 大橋町 5-3-1アスタプラザイースト３F
ATTACH;FMTTYPE=image/jpeg:https://ilchibrainyoga-kobe.com/wp-content/uploads/2026/03/気功-2人-新モデル.jpg
END:VEVENT
BEGIN:VEVENT
DTSTART;TZID=Asia/Tokyo:20260114T100000
DTEND;TZID=Asia/Tokyo:20260114T114000
DTSTAMP:20260426T001331
CREATED:20260107T013848Z
LAST-MODIFIED:20260107T013848Z
UID:73254-1768384800-1768390800@ilchibrainyoga-kobe.com
SUMMARY:呼吸・瞑想ヨガ
DESCRIPTION:呼吸チェック(ビフォー・アフター)・体ポカポカ体操・頭すっきり瞑想\n\n1月14日(木）\n時間：\n①10:00～10:40\n②11:00〜11:40\n(体操30分)\n会場名：神戸三宮レンタルスタジオS ork\n会場住所：中央区琴ノ緒町4丁目7-9関西ビル301号室 \n参加費：500円(要予約)\nトレーナー：有馬加代\n持ち物：動きやすい服装、飲み物\n問合せ電話:078-965-7227 \n\nLINEからのお申し込みはこちら⇒https://lin.ee/q3i63Eq \n\n\n  \n\n\n\n\n\n \n体験ご希望日時\n		(必須)　※ご注意：月曜日は定休日です\n		\n \n—以下から選択してください—10111213141516171819時 —以下から選択してください—001020304050分 ～ のクラス\n \nお名前\n		 (必須)\n		\n \n\n \nメールアドレス\n		 (必須)\n		\n \n\n \nお電話番号（携帯可）\n		 (必須)\n		\n \n\n \nこちらのスタジオを何でお知りになりましたか？\n		 (必須)\n		\n \nチラシ看板書籍雑誌紹介Yahoo検索Google検索口コミその他Webサイト\n \nご関心があること、習得したいこと（複数可）\n \n肩こり腰痛の改善自然治癒力アップ集中力アップダイエット体質改善ストレス解消丹田強化呼吸法瞑想法その他\n \n備考欄\n \n\n \n\n\n \n\n Δ \n\n\n\n株式会社DAHN WORLD JAPAN　ダンワールドジャパン
URL:https://ilchibrainyoga-kobe.com/event/kobe-17/
LOCATION:神戸三宮レンタルスタジオS ork\, 中央区琴ノ緒町4丁目7-9関西ビル301号室
ATTACH;FMTTYPE=image/jpeg:https://ilchibrainyoga-kobe.com/wp-content/uploads/2025/11/3人瞑想.jpg
END:VEVENT
BEGIN:VEVENT
DTSTART;TZID=Asia/Tokyo:20260106T100000
DTEND;TZID=Asia/Tokyo:20260131T200000
DTSTAMP:20260426T001331
CREATED:20251219T014747Z
LAST-MODIFIED:20251219T014747Z
UID:73245-1767693600-1769889600@ilchibrainyoga-kobe.com
SUMMARY:お正月休みの不摂生をリセット‼️1年を元気に過ごせるために‼️ 腸と脳を元気にするヨガ・瞑想体験会(80分)
DESCRIPTION:脳科学と東洋の伝統的トレーニングがベースのシンプルな動きと深い呼吸で腸と脳のバランスを整え、自分を感じ瞑想します。 \n開催日：1月6日（火）〜1月31日(土)\n時間：10時〜11時20分\n　　　14時〜16時20分\n平日のみ18時40分〜20時\n会場名：イルチブレインヨガ神戸新長田スタジオ\n会場住所：兵庫県神戸市長田区大橋町５丁目３−１ 3F\n参加費：1\,000円\nトレーナー：西澤栄希子、有馬加代\n持ち物：動きやすい服装、飲み物、タオル\n問合せ電話：078-965-7227\n\nLINEからのお申し込みはこちら⇒https://lin.ee/q3i63Eq \n\n\n  \n\n\n\n\n\n \n体験ご希望日時\n		(必須)　※ご注意：月曜日は定休日です\n		\n \n—以下から選択してください—10111213141516171819時 —以下から選択してください—001020304050分 ～ のクラス\n \nお名前\n		 (必須)\n		\n \n\n \nメールアドレス\n		 (必須)\n		\n \n\n \nお電話番号（携帯可）\n		 (必須)\n		\n \n\n \nこちらのスタジオを何でお知りになりましたか？\n		 (必須)\n		\n \nチラシ看板書籍雑誌紹介Yahoo検索Google検索口コミその他Webサイト\n \nご関心があること、習得したいこと（複数可）\n \n肩こり腰痛の改善自然治癒力アップ集中力アップダイエット体質改善ストレス解消丹田強化呼吸法瞑想法その他\n \n備考欄\n \n\n \n\n\n \n\n Δ \n\n\n\n株式会社DAHN WORLD JAPAN　ダンワールドジャパン
URL:https://ilchibrainyoga-kobe.com/event/kobe-16/
LOCATION:イルチブレインヨガ神戸新長田スタジオ\, 兵庫県 神戸市長田区 大橋町 5-3-1アスタプラザイースト３F
ATTACH;FMTTYPE=image/jpeg:https://ilchibrainyoga-kobe.com/wp-content/uploads/2025/12/チャクラ瞑想.jpg
END:VEVENT
BEGIN:VEVENT
DTSTART;TZID=Asia/Tokyo:20251213T130000
DTEND;TZID=Asia/Tokyo:20251213T142000
DTSTAMP:20260426T001331
CREATED:20251206T071750Z
LAST-MODIFIED:20251206T071750Z
UID:73225-1765630800-1765635600@ilchibrainyoga-kobe.com
SUMMARY:呼吸・瞑想ヨガ
DESCRIPTION:呼吸チェック(ビフォー・アフター)・体ポカポカ体操・頭すっきり瞑想\n\n・12月13日(土）\n時間：13:00～14:20\n(体操60分)\n会場名：西神南コープつどいの場井吹スタジオ\n会場住所：西区井吹台東町1丁目1-1\n参加費：800円(要予約)\nトレーナー：有馬加代\n持ち物：動きやすい服装、飲み物 \n問合せ電話:\n078-965-7227 \n\nLINEからのお申し込みはこちら⇒https://lin.ee/q3i63Eq \n\n\n  \n\n\n\n\n\n \n体験ご希望日時\n		(必須)　※ご注意：月曜日は定休日です\n		\n \n—以下から選択してください—10111213141516171819時 —以下から選択してください—001020304050分 ～ のクラス\n \nお名前\n		 (必須)\n		\n \n\n \nメールアドレス\n		 (必須)\n		\n \n\n \nお電話番号（携帯可）\n		 (必須)\n		\n \n\n \nこちらのスタジオを何でお知りになりましたか？\n		 (必須)\n		\n \nチラシ看板書籍雑誌紹介Yahoo検索Google検索口コミその他Webサイト\n \nご関心があること、習得したいこと（複数可）\n \n肩こり腰痛の改善自然治癒力アップ集中力アップダイエット体質改善ストレス解消丹田強化呼吸法瞑想法その他\n \n備考欄\n \n\n \n\n\n \n\n Δ \n\n\n\n株式会社DAHN WORLD JAPAN　ダンワールドジャパン
URL:https://ilchibrainyoga-kobe.com/event/kobe-15/
LOCATION:西神南コープつどいの場井吹スタジオ\, 西区井吹台東町1丁目1-1
ATTACH;FMTTYPE=image/jpeg:https://ilchibrainyoga-kobe.com/wp-content/uploads/2025/11/3人瞑想.jpg
END:VEVENT
BEGIN:VEVENT
DTSTART;TZID=Asia/Tokyo:20251202T100000
DTEND;TZID=Asia/Tokyo:20251228T200000
DTSTAMP:20260426T001331
CREATED:20251119T011903Z
LAST-MODIFIED:20251119T011903Z
UID:73192-1764669600-1766952000@ilchibrainyoga-kobe.com
SUMMARY:腸と脳のバランスを整える!呼吸・瞑想ヨガ体験会(80分)
DESCRIPTION:脳科学と東洋の伝統的トレーニングがベースのシンプルな動きと深い呼吸で腸と脳のバランスを整え、自分を感じ瞑想します。\n開催日：12月2日（火）〜12月28日(日)\n時間：10時〜11時20分\n　　　14時〜16時20分\n平日のみ18時40分〜20時\n会場名：イルチブレインヨガ神戸新長田スタジオ\n会場住所：兵庫県神戸市長田区大橋町５丁目３−１ 3F\n参加費：1\,000円\nトレーナー：西澤栄希子、有馬加代\n持ち物：動きやすい服装、飲み物、タオル\n問合せ電話：078-965-7227 \n\nLINEからのお申し込みはこちら⇒https://lin.ee/q3i63Eq \n\n\n  \n\n\n\n\n\n \n体験ご希望日時\n		(必須)　※ご注意：月曜日は定休日です\n		\n \n—以下から選択してください—10111213141516171819時 —以下から選択してください—001020304050分 ～ のクラス\n \nお名前\n		 (必須)\n		\n \n\n \nメールアドレス\n		 (必須)\n		\n \n\n \nお電話番号（携帯可）\n		 (必須)\n		\n \n\n \nこちらのスタジオを何でお知りになりましたか？\n		 (必須)\n		\n \nチラシ看板書籍雑誌紹介Yahoo検索Google検索口コミその他Webサイト\n \nご関心があること、習得したいこと（複数可）\n \n肩こり腰痛の改善自然治癒力アップ集中力アップダイエット体質改善ストレス解消丹田強化呼吸法瞑想法その他\n \n備考欄\n \n\n \n\n\n \n\n Δ \n\n\n\n株式会社DAHN WORLD JAPAN　ダンワールドジャパン
URL:https://ilchibrainyoga-kobe.com/event/kobe-14/
LOCATION:イルチブレインヨガ神戸新長田スタジオ\, 兵庫県 神戸市長田区 大橋町 5-3-1アスタプラザイースト３F
ATTACH;FMTTYPE=image/jpeg:https://ilchibrainyoga-kobe.com/wp-content/uploads/2025/02/瞑想5人　新モデル.jpg
END:VEVENT
END:VCALENDAR